BEGIN:VCALENDAR
VERSION:2.0
PRODID:-//EventsCase//EventsCase//EN
BEGIN:VEVENT
TZID:UTC
TZ:+00
UID:69e8744daf2b2
DTSTAMP:20260422T071005Z
SUMMARY:Brexit briefing  in collaboration with the BEIS
DESCRIPTION:https://spanishchamber.eventscase.com/agenda/event/36453
LOCATION:BEIS Conference Centre\, 1 Victoria St\, Westminster\, London SW1H
  0ET
DTSTART:20200121T083000Z
DTEND:20200121T103000Z
X-ALT-DESC;FMTTYPE=text/html;ENCODING=QUOTED-PRINTABLE:https://spanishchamb
 er.eventscase.com/agenda/event/36453
END:VEVENT
END:VCALENDAR